BEGIN:VCALENDAR
VERSION:2.0
PRODID:spatie/icalendar-generator
DESCRIPTION:Veranstaltungen von Eder Dampfradio
X-WR-CALDESC:Veranstaltungen von Eder Dampfradio
REFRESH-INTERVAL;VALUE=DURATION:PT1440M
X-PUBLISHED-TTL:PT1440M
BEGIN:VTIMEZONE
TZID:Europe/Berlin
BEGIN:STANDARD
DTSTART:20251026T030000Z
TZOFFSETFROM:+0200
TZOFFSETTO:+0100
END:STANDARD
BEGIN:DAYLIGHT
DTSTART:20260329T020000Z
TZOFFSETFROM:+0100
TZOFFSETTO:+0200
END:DAYLIGHT
BEGIN:STANDARD
DTSTART:20261025T030000Z
TZOFFSETFROM:+0200
TZOFFSETTO:+0100
END:STANDARD
END:VTIMEZONE
BEGIN:VTIMEZONE
TZID:UTC
BEGIN:STANDARD
DTSTART:20250726T103532Z
TZOFFSETFROM:+0000
TZOFFSETTO:+0000
END:STANDARD
END:VTIMEZONE
BEGIN:VEVENT
UID:5357-5515
DTSTAMP:20260422T103532Z
SUMMARY:Elterncafé mit Vorlesen in der Korbacher Stadtbücherei
LOCATION:
ORGANIZER;CN=od:MAILTO:redaktion@eder-dampfradio.de
DTSTART;TZID=Europe/Berlin:20260511T160000
DTEND;TZID=Europe/Berlin:20260511T180000
X-ALT-DESC;FMTTYPE=TEXT/HTML:Am Montag\, 11. Mai 2026\, findet ab 16 Uhr wi
 eder ein Elterncafé mit Vorlesen in der Stadtbücherei Korbach statt. Das
  Angebot vom Fachdienst Jugend des Landkreises Waldeck-Frankenberg\, Sachg
 ebiet Frühe Hilfen\, richtet sich in Zusammenarbeit mit der Stadtbüchere
 i an Eltern mit Kleinkindern\, von der Geburt an bis zum 3. Lebensjahr. Ge
 schwisterkinder sind ebenfalls herzlich willkommen. [the_ad&amp;hellip\;
CATEGORIES:Veranstaltung
URL;VALUE=URI:https://www.eder-dampfradio.de/kalender/elterncafe-mit-vorles
 en-in-der-korbacher-stadtbuecherei/
METHOD:PUBLISH
END:VEVENT
END:VCALENDAR