BEGIN:VCALENDAR
VERSION:2.0
PRODID:spatie/icalendar-generator
DESCRIPTION:Veranstaltungen von Eder Dampfradio
X-WR-CALDESC:Veranstaltungen von Eder Dampfradio
REFRESH-INTERVAL;VALUE=DURATION:PT1440M
X-PUBLISHED-TTL:PT1440M
BEGIN:VTIMEZONE
TZID:Europe/Berlin
BEGIN:STANDARD
DTSTART:20211031T030000Z
TZOFFSETFROM:+0200
TZOFFSETTO:+0100
END:STANDARD
BEGIN:DAYLIGHT
DTSTART:20220327T020000Z
TZOFFSETFROM:+0100
TZOFFSETTO:+0200
END:DAYLIGHT
END:VTIMEZONE
BEGIN:VTIMEZONE
TZID:UTC
BEGIN:STANDARD
DTSTART:20250723T155554Z
TZOFFSETFROM:+0000
TZOFFSETTO:+0000
END:STANDARD
END:VTIMEZONE
BEGIN:VEVENT
UID:3578-3756
DTSTAMP:20260419T155554Z
SUMMARY:Verwunschener Wald
LOCATION:
ORGANIZER;CN=od:MAILTO:redaktion@eder-dampfradio.de
DTSTART;TZID=Europe/Berlin:20220401T130000
DTEND;TZID=Europe/Berlin:20220401T170000
X-ALT-DESC;FMTTYPE=TEXT/HTML:Riesige alte Fischten\, Birken und Wacholder g
 eben dem Naturschutzgebiet „Paradies“ einen besonderen Reiz. Mindestal
 ter 18 Jahre Leitung: Toni Frekot\, Naturparkführer Kosten: Erw. 6 € Tr
 effpunkt: Bad Wildungen-Reinhardshausen\, Kur- und Touristinformation\, Ha
 uptstraße 2 Veranstalter: Naturpark Kellerwald-Edersee
CATEGORIES:Naturpark Kellerwald
URL;VALUE=URI:https://www.eder-dampfradio.de/kalender/verwunschener-wald-4/
METHOD:PUBLISH
END:VEVENT
END:VCALENDAR