BEGIN:VCALENDAR
VERSION:2.0
PRODID:spatie/icalendar-generator
DESCRIPTION:Veranstaltungen von Eder Dampfradio
X-WR-CALDESC:Veranstaltungen von Eder Dampfradio
REFRESH-INTERVAL;VALUE=DURATION:PT1440M
X-PUBLISHED-TTL:PT1440M
BEGIN:VTIMEZONE
TZID:Europe/Berlin
BEGIN:STANDARD
DTSTART:20211031T030000Z
TZOFFSETFROM:+0200
TZOFFSETTO:+0100
END:STANDARD
BEGIN:DAYLIGHT
DTSTART:20220327T020000Z
TZOFFSETFROM:+0100
TZOFFSETTO:+0200
END:DAYLIGHT
END:VTIMEZONE
BEGIN:VTIMEZONE
TZID:UTC
BEGIN:STANDARD
DTSTART:20250723T185759Z
TZOFFSETFROM:+0000
TZOFFSETTO:+0000
END:STANDARD
END:VTIMEZONE
BEGIN:VEVENT
UID:3576-3754
DTSTAMP:20260419T185759Z
SUMMARY:Informationsveranstaltung für Frauen zum Thema „Eltern-Kinder-Ve
 rhältnis
LOCATION:
ORGANIZER;CN=od:MAILTO:redaktion@eder-dampfradio.de
DTSTART;TZID=Europe/Berlin:20220331T193000
DTEND;TZID=Europe/Berlin:20220331T220000
X-ALT-DESC;FMTTYPE=TEXT/HTML:Das Frauenbüro des Landkreises Waldeck-Franke
 nberg lädt für den 31. März 2022 zu einer Informationsveranstaltung fü
 r Frauen zum Thema „Eltern-Kinder-Verhältnis – Rechte/Pflichten\, Unt
 erhaltsansprüche“ nach Bad Arolsen ein. Rechtsanwältin Jutta Schwarze 
 referiert in der Residenzstadt ab 19:30 Uhr im „Treff-Punkt“ in der Gr
 oßen Allee 16 zum Thema. Die kostenfreie Veranstaltung findet unter Einha
 ltung der aktuell gültigen Coronaregeln&amp;hellip\;
CATEGORIES:Veranstaltung
URL;VALUE=URI:https://www.eder-dampfradio.de/kalender/informationsveranstal
 tung-fuer-frauen-zum-thema-eltern-kinder-verhaeltnis/
METHOD:PUBLISH
END:VEVENT
END:VCALENDAR