BEGIN:VCALENDAR
VERSION:2.0
PRODID:spatie/icalendar-generator
DESCRIPTION:Veranstaltungen von Eder Dampfradio
X-WR-CALDESC:Veranstaltungen von Eder Dampfradio
REFRESH-INTERVAL;VALUE=DURATION:PT1440M
X-PUBLISHED-TTL:PT1440M
BEGIN:VTIMEZONE
TZID:Europe/Berlin
BEGIN:STANDARD
DTSTART:20251026T030000Z
TZOFFSETFROM:+0200
TZOFFSETTO:+0100
END:STANDARD
BEGIN:DAYLIGHT
DTSTART:20260329T020000Z
TZOFFSETFROM:+0100
TZOFFSETTO:+0200
END:DAYLIGHT
BEGIN:STANDARD
DTSTART:20261025T030000Z
TZOFFSETFROM:+0200
TZOFFSETTO:+0100
END:STANDARD
END:VTIMEZONE
BEGIN:VTIMEZONE
TZID:UTC
BEGIN:STANDARD
DTSTART:20250726T082059Z
TZOFFSETFROM:+0000
TZOFFSETTO:+0000
END:STANDARD
END:VTIMEZONE
BEGIN:VEVENT
UID:5356-5514
DTSTAMP:20260422T082059Z
SUMMARY:Kommunales Kino - \"Der besondere Film\" im April \"Das Flüstern d
 er Wälder\"
LOCATION:
ORGANIZER;CN=od:MAILTO:redaktion@eder-dampfradio.de
DTSTART;TZID=Europe/Berlin:20260428T193000
DTEND;TZID=Europe/Berlin:20260428T220000
X-ALT-DESC;FMTTYPE=TEXT/HTML:Geduld ist die wichtigste Eigenschaft\, die Mi
 chel Munier auf seinen Streifzügen tief in die alten\, moosbedeckten Wäl
 der der Vogesen mitbringen muss. Mit Rucksack\, Stock und einer warmen Jac
 ke ausgestattet\, zieht es ihn immer wieder tief hinein in die Stille des 
 Waldes\, zu einem ganz besonderen Ort: einer Tanne\, die zu seinem Verstec
 k geworden ist. Unter&amp;hellip\;
CATEGORIES:Veranstaltung
URL;VALUE=URI:https://www.eder-dampfradio.de/kalender/kommunales-kino-der-b
 esondere-film-im-april-das-fluestern-der-waelder/
METHOD:PUBLISH
END:VEVENT
END:VCALENDAR