BEGIN:VCALENDAR
VERSION:2.0
PRODID:spatie/icalendar-generator
DESCRIPTION:Veranstaltungen von Eder Dampfradio
X-WR-CALDESC:Veranstaltungen von Eder Dampfradio
REFRESH-INTERVAL;VALUE=DURATION:PT1440M
X-PUBLISHED-TTL:PT1440M
BEGIN:VTIMEZONE
TZID:Europe/Berlin
BEGIN:STANDARD
DTSTART:20251026T030000Z
TZOFFSETFROM:+0200
TZOFFSETTO:+0100
END:STANDARD
BEGIN:DAYLIGHT
DTSTART:20260329T020000Z
TZOFFSETFROM:+0100
TZOFFSETTO:+0200
END:DAYLIGHT
BEGIN:STANDARD
DTSTART:20261025T030000Z
TZOFFSETFROM:+0200
TZOFFSETTO:+0100
END:STANDARD
END:VTIMEZONE
BEGIN:VTIMEZONE
TZID:UTC
BEGIN:STANDARD
DTSTART:20250726T101817Z
TZOFFSETFROM:+0000
TZOFFSETTO:+0000
END:STANDARD
END:VTIMEZONE
BEGIN:VEVENT
UID:5355-5513
DTSTAMP:20260422T101817Z
SUMMARY:Neuer Bebauungsplan für Reinhardshausen
LOCATION:
ORGANIZER;CN=od:MAILTO:redaktion@eder-dampfradio.de
DTSTART;TZID=Europe/Berlin:20260427T193000
DTEND;TZID=Europe/Berlin:20260427T220000
X-ALT-DESC;FMTTYPE=TEXT/HTML:Bereits seit geraumer Zeit steht die Ausweisun
 g eines Wohngebiets am nördlichen Ortsrand von Reinhardshausen an. Zur Sc
 haffung des Planungsrechts wurde ein Bebauungsplanverfahren begonnen. Aufg
 rund geänderter rechtlicher Rahmenbedingungen musste das Verfahren in 202
 5 neu gestartet werden. Die Stadtverordnetenversammlung hat die erforderli
 chen Beschlüsse zur Durchführung eines neuen Verfahrens für den Bebauun
 gsplan Nr. 5 Reinhardshausen \"Bornäcker\" am 5. Mai 2025&amp;hellip\;
CATEGORIES:Veranstaltung
URL;VALUE=URI:https://www.eder-dampfradio.de/kalender/neuer-bebauungsplan-f
 uer-reinhardshausen/
METHOD:PUBLISH
END:VEVENT
END:VCALENDAR