BEGIN:VCALENDAR
VERSION:2.0
PRODID:spatie/icalendar-generator
DESCRIPTION:Veranstaltungen von Eder Dampfradio
X-WR-CALDESC:Veranstaltungen von Eder Dampfradio
REFRESH-INTERVAL;VALUE=DURATION:PT1440M
X-PUBLISHED-TTL:PT1440M
BEGIN:VTIMEZONE
TZID:Europe/Berlin
BEGIN:DAYLIGHT
DTSTART:20240331T020000Z
TZOFFSETFROM:+0100
TZOFFSETTO:+0200
END:DAYLIGHT
BEGIN:STANDARD
DTSTART:20241027T030000Z
TZOFFSETFROM:+0200
TZOFFSETTO:+0100
END:STANDARD
BEGIN:DAYLIGHT
DTSTART:20250330T020000Z
TZOFFSETFROM:+0100
TZOFFSETTO:+0200
END:DAYLIGHT
END:VTIMEZONE
BEGIN:VTIMEZONE
TZID:UTC
BEGIN:STANDARD
DTSTART:20250724T100850Z
TZOFFSETFROM:+0000
TZOFFSETTO:+0000
END:STANDARD
END:VTIMEZONE
BEGIN:VEVENT
UID:4770-4943
DTSTAMP:20260420T100850Z
SUMMARY:Abgabemöglichkeit von Altreifen in Bad Wildungen
LOCATION:
ORGANIZER;CN=od:MAILTO:redaktion@eder-dampfradio.de
DTSTART;TZID=Europe/Berlin:20241012T115000
DTEND;TZID=Europe/Berlin:20241012T130000
X-ALT-DESC;FMTTYPE=TEXT/HTML:Am Samstag\, dem 12.10.2024\, werden wieder Al
 treifen und Großbatterien von der Firma Krautwald entgegengenommen. Das S
 ammelfahrzeug steht in der Zeit von 11:50 Uhr – 13:00 Uhr in Bad Wil
 dungen\, Schützenplatz/Viehmarktsplatz/Dr.-Born-Straße zur Annahme berei
 t. Die Preise für saubere Reifen staffeln sich wie folgt: Pkw-Kleinreifen
  ohne Felge 3\,00 € Pkw-Kleinreifen mit Felge 3\,50 € Pkw-Reifen ab 
 17 Zoll (Kleintransporter/Jeep etc.) ohne Felge 4\,00 €&amp;hellip\;
CATEGORIES:Allgemein
URL;VALUE=URI:https://www.eder-dampfradio.de/kalender/abgabemoeglichkeit-vo
 n-altreifen-in-bad-wildungen-2/
METHOD:PUBLISH
END:VEVENT
END:VCALENDAR