BEGIN:VCALENDAR
VERSION:2.0
PRODID:spatie/icalendar-generator
DESCRIPTION:Veranstaltungen von Eder Dampfradio
X-WR-CALDESC:Veranstaltungen von Eder Dampfradio
REFRESH-INTERVAL;VALUE=DURATION:PT1440M
X-PUBLISHED-TTL:PT1440M
BEGIN:VTIMEZONE
TZID:Europe/Berlin
BEGIN:STANDARD
DTSTART:20231029T030000Z
TZOFFSETFROM:+0200
TZOFFSETTO:+0100
END:STANDARD
BEGIN:DAYLIGHT
DTSTART:20240331T020000Z
TZOFFSETFROM:+0100
TZOFFSETTO:+0200
END:DAYLIGHT
BEGIN:STANDARD
DTSTART:20241027T030000Z
TZOFFSETFROM:+0200
TZOFFSETTO:+0100
END:STANDARD
END:VTIMEZONE
BEGIN:VTIMEZONE
TZID:UTC
BEGIN:STANDARD
DTSTART:20250724T125642Z
TZOFFSETFROM:+0000
TZOFFSETTO:+0000
END:STANDARD
END:VTIMEZONE
BEGIN:VEVENT
UID:4576-4749
DTSTAMP:20260420T125642Z
SUMMARY:Abfallanlagen des Landkreises geschlossen
LOCATION:
ORGANIZER;CN=od:MAILTO:redaktion@eder-dampfradio.de
DTSTART;TZID=Europe/Berlin;VALUE=DATE:20240611
DTEND;TZID=Europe/Berlin;VALUE=DATE:20240612
X-ALT-DESC;FMTTYPE=TEXT/HTML:Wegen Wartungsarbeiten und Eichung der Waagen 
 sind die Abfallanlagen des Landkreises in Flechtdorf\, Geismar und Bad Wil
 dungen am 11. Juli geschlossen. Kundinnen und Kunden werden daher gebeten\
 , Anlieferungen außerhalb der Schließzeiten zu planen. Die Deponie in Fl
 echtdorf schließt am 11. Juli ab 12.30 Uhr\, die Müllumladestation in Ge
 ismar von 10.30 bis 13.30 Uhr und die&amp;hellip\;
CATEGORIES:Allgemein
URL;VALUE=URI:https://www.eder-dampfradio.de/kalender/abfallanlagen-des-lan
 dkreises-geschlossen/
METHOD:PUBLISH
END:VEVENT
END:VCALENDAR