BEGIN:VCALENDAR
VERSION:2.0
PRODID:spatie/icalendar-generator
DESCRIPTION:Veranstaltungen von Eder Dampfradio
X-WR-CALDESC:Veranstaltungen von Eder Dampfradio
REFRESH-INTERVAL;VALUE=DURATION:PT1440M
X-PUBLISHED-TTL:PT1440M
BEGIN:VTIMEZONE
TZID:Europe/Berlin
BEGIN:STANDARD
DTSTART:20221030T030000Z
TZOFFSETFROM:+0200
TZOFFSETTO:+0100
END:STANDARD
BEGIN:DAYLIGHT
DTSTART:20230326T020000Z
TZOFFSETFROM:+0100
TZOFFSETTO:+0200
END:DAYLIGHT
BEGIN:STANDARD
DTSTART:20231029T030000Z
TZOFFSETFROM:+0200
TZOFFSETTO:+0100
END:STANDARD
END:VTIMEZONE
BEGIN:VTIMEZONE
TZID:UTC
BEGIN:STANDARD
DTSTART:20250724T125546Z
TZOFFSETFROM:+0000
TZOFFSETTO:+0000
END:STANDARD
END:VTIMEZONE
BEGIN:VEVENT
UID:4183-4357
DTSTAMP:20260420T125546Z
SUMMARY:Frieden schaffen ohne Waffen: im Angriffskrieg Russlands gegen die 
 Ukraine möglich oder Utopie?
LOCATION:
ORGANIZER;CN=od:MAILTO:redaktion@eder-dampfradio.de
DTSTART;TZID=Europe/Berlin:20230718T193000
DTEND;TZID=Europe/Berlin:20230718T220000
X-ALT-DESC;FMTTYPE=TEXT/HTML:Inmitten der gegenwärtigen geopolitischen Spa
 nnungen und der jüngsten Ereignisse rund um den Angriffskrieg Russlands g
 egen die Ukraine rückt die Frage nach friedlichen Lösungen verstärkt in
  den Fokus. Ist es möglich\, den russischen Angriffskrieg auch ohne eine 
 weitere militärische Eskalation zu beenden? Kann Diplomatie und Dialog di
 e Grundlage für eine dauerhafte Friedenslösung bieten? Oder bleibt die&amp;h
 ellip\;
CATEGORIES:Veranstaltung
URL;VALUE=URI:https://www.eder-dampfradio.de/kalender/frieden-schaffen-ohne
 -waffen-im-angriffskrieg-russlands-gegen-die-ukraine-moeglich-oder-utopie/
METHOD:PUBLISH
END:VEVENT
END:VCALENDAR