BEGIN:VCALENDAR
VERSION:2.0
PRODID:spatie/icalendar-generator
DESCRIPTION:Veranstaltungen von Eder Dampfradio
X-WR-CALDESC:Veranstaltungen von Eder Dampfradio
REFRESH-INTERVAL;VALUE=DURATION:PT1440M
X-PUBLISHED-TTL:PT1440M
BEGIN:VTIMEZONE
TZID:Europe/Berlin
BEGIN:STANDARD
DTSTART:20211031T030000Z
TZOFFSETFROM:+0200
TZOFFSETTO:+0100
END:STANDARD
BEGIN:DAYLIGHT
DTSTART:20220327T020000Z
TZOFFSETFROM:+0100
TZOFFSETTO:+0200
END:DAYLIGHT
END:VTIMEZONE
BEGIN:VTIMEZONE
TZID:UTC
BEGIN:STANDARD
DTSTART:20250723T124100Z
TZOFFSETFROM:+0000
TZOFFSETTO:+0000
END:STANDARD
END:VTIMEZONE
BEGIN:VEVENT
UID:3579-3757
DTSTAMP:20260419T124100Z
SUMMARY:Waldbaden hoch oben
LOCATION:
ORGANIZER;CN=od:MAILTO:redaktion@eder-dampfradio.de
DTSTART;TZID=Europe/Berlin:20220402T100000
DTEND;TZID=Europe/Berlin:20220402T160000
X-ALT-DESC;FMTTYPE=TEXT/HTML:Wandern – Entschleunigen – Auszeit. Die Fa
 szination des Wüstegarten und des Moor-Erlebnispfades mit allen Sinnen ac
 htsam wahrnehmen und intensiv mit der Natur in Kontakt treten. „Zeit\, d
 ie wir uns nehmen\, ist Zeit\, die uns etwas gibt“ (Ernst Ferstl). Minde
 stalter 16 Jahre\, Mindestteilnehmerzahl 8 Personen. Bitte Sitzunterlage m
 itbringen. Rucksackverpflegung erforderlich! Leitung: Jessica Schmitz\, Na
 turparkführerin und Kursleiterin&amp;hellip\;
CATEGORIES:Naturpark Kellerwald
URL;VALUE=URI:https://www.eder-dampfradio.de/kalender/waldbaden-hoch-oben-2
 /
METHOD:PUBLISH
END:VEVENT
END:VCALENDAR