BEGIN:VCALENDAR
VERSION:2.0
PRODID:spatie/icalendar-generator
DESCRIPTION:Veranstaltungen von Eder Dampfradio
X-WR-CALDESC:Veranstaltungen von Eder Dampfradio
REFRESH-INTERVAL;VALUE=DURATION:PT1440M
X-PUBLISHED-TTL:PT1440M
BEGIN:VTIMEZONE
TZID:Europe/Berlin
BEGIN:STANDARD
DTSTART:20211031T030000Z
TZOFFSETFROM:+0200
TZOFFSETTO:+0100
END:STANDARD
BEGIN:DAYLIGHT
DTSTART:20220327T020000Z
TZOFFSETFROM:+0100
TZOFFSETTO:+0200
END:DAYLIGHT
END:VTIMEZONE
BEGIN:VTIMEZONE
TZID:UTC
BEGIN:STANDARD
DTSTART:20250723T155628Z
TZOFFSETFROM:+0000
TZOFFSETTO:+0000
END:STANDARD
END:VTIMEZONE
BEGIN:VEVENT
UID:3577-3755
DTSTAMP:20260419T155628Z
SUMMARY:Stadtbücherei Bad Wildungen
LOCATION:
ORGANIZER;CN=od:MAILTO:redaktion@eder-dampfradio.de
DTSTART;TZID=Europe/Berlin:20220401T110000
DTEND;TZID=Europe/Berlin:20220401T170000
X-ALT-DESC;FMTTYPE=TEXT/HTML:Die Stadtbücherei hat am Freitag\, den 01.04.
 2022 aus betrieblichen Gründen ab 11:00 Uhr geschlossen.
CATEGORIES:Allgemein
URL;VALUE=URI:https://www.eder-dampfradio.de/kalender/stadtbuecherei-bad-wi
 ldungen-5/
METHOD:PUBLISH
END:VEVENT
END:VCALENDAR